BEGIN:VCALENDAR
VERSION:2.0
PRODID:-//Twisted Oaks GC - ECPv6.15.20//NONSGML v1.0//EN
CALSCALE:GREGORIAN
METHOD:PUBLISH
X-WR-CALNAME:Twisted Oaks GC
X-ORIGINAL-URL:https://twistedoaksgc.com
X-WR-CALDESC:Events for Twisted Oaks GC
REFRESH-INTERVAL;VALUE=DURATION:PT1H
X-Robots-Tag:noindex
X-PUBLISHED-TTL:PT1H
BEGIN:VTIMEZONE
TZID:America/New_York
BEGIN:DAYLIGHT
TZOFFSETFROM:-0500
TZOFFSETTO:-0400
TZNAME:EDT
DTSTART:20220313T070000
END:DAYLIGHT
BEGIN:STANDARD
TZOFFSETFROM:-0400
TZOFFSETTO:-0500
TZNAME:EST
DTSTART:20221106T060000
END:STANDARD
BEGIN:DAYLIGHT
TZOFFSETFROM:-0500
TZOFFSETTO:-0400
TZNAME:EDT
DTSTART:20230312T070000
END:DAYLIGHT
BEGIN:STANDARD
TZOFFSETFROM:-0400
TZOFFSETTO:-0500
TZNAME:EST
DTSTART:20231105T060000
END:STANDARD
BEGIN:DAYLIGHT
TZOFFSETFROM:-0500
TZOFFSETTO:-0400
TZNAME:EDT
DTSTART:20240310T070000
END:DAYLIGHT
BEGIN:STANDARD
TZOFFSETFROM:-0400
TZOFFSETTO:-0500
TZNAME:EST
DTSTART:20241103T060000
END:STANDARD
BEGIN:DAYLIGHT
TZOFFSETFROM:-0500
TZOFFSETTO:-0400
TZNAME:EDT
DTSTART:20250309T070000
END:DAYLIGHT
BEGIN:STANDARD
TZOFFSETFROM:-0400
TZOFFSETTO:-0500
TZNAME:EST
DTSTART:20251102T060000
END:STANDARD
END:VTIMEZONE
BEGIN:VEVENT
DTSTART;TZID=America/New_York:20240702T163000
DTEND;TZID=America/New_York:20240910T173000
DTSTAMP:20260419T111814
CREATED:20240308T154953Z
LAST-MODIFIED:20250411T173550Z
UID:10000033-1719937800-1725989400@twistedoaksgc.com
SUMMARY:Spark Golf
DESCRIPTION:
URL:https://twistedoaksgc.com/event/spark-golf/2024-07-02/
END:VEVENT
BEGIN:VEVENT
DTSTART;TZID=America/New_York:20240625T163000
DTEND;TZID=America/New_York:20240903T173000
DTSTAMP:20260419T111814
CREATED:20240308T154953Z
LAST-MODIFIED:20250411T173550Z
UID:10000032-1719333000-1725384600@twistedoaksgc.com
SUMMARY:Spark Golf
DESCRIPTION:
URL:https://twistedoaksgc.com/event/spark-golf/2024-06-25/
END:VEVENT
BEGIN:VEVENT
DTSTART;TZID=America/New_York:20240618T163000
DTEND;TZID=America/New_York:20240827T173000
DTSTAMP:20260419T111814
CREATED:20240308T154953Z
LAST-MODIFIED:20250411T173550Z
UID:10000031-1718728200-1724779800@twistedoaksgc.com
SUMMARY:Spark Golf
DESCRIPTION:
URL:https://twistedoaksgc.com/event/spark-golf/2024-06-18/
END:VEVENT
BEGIN:VEVENT
DTSTART;VALUE=DATE:20240618
DTEND;VALUE=DATE:20240619
DTSTAMP:20260419T111814
CREATED:20240604T143649Z
LAST-MODIFIED:20240604T143649Z
UID:10000893-1718668800-1718755199@twistedoaksgc.com
SUMMARY:Aerification
DESCRIPTION:
URL:https://twistedoaksgc.com/event/aerification-2/
CATEGORIES:Maintenance
END:VEVENT
BEGIN:VEVENT
DTSTART;TZID=America/New_York:20240611T163000
DTEND;TZID=America/New_York:20240820T173000
DTSTAMP:20260419T111814
CREATED:20240308T154953Z
LAST-MODIFIED:20250411T173550Z
UID:10000030-1718123400-1724175000@twistedoaksgc.com
SUMMARY:Spark Golf
DESCRIPTION:
URL:https://twistedoaksgc.com/event/spark-golf/2024-06-11/
END:VEVENT
BEGIN:VEVENT
DTSTART;TZID=America/New_York:20240604T163000
DTEND;TZID=America/New_York:20240813T173000
DTSTAMP:20260419T111814
CREATED:20240308T154953Z
LAST-MODIFIED:20250411T173550Z
UID:10000029-1717518600-1723570200@twistedoaksgc.com
SUMMARY:Spark Golf
DESCRIPTION:
URL:https://twistedoaksgc.com/event/spark-golf/2024-06-04/
END:VEVENT
BEGIN:VEVENT
DTSTART;TZID=America/New_York:20240528T163000
DTEND;TZID=America/New_York:20240806T173000
DTSTAMP:20260419T111814
CREATED:20240308T154953Z
LAST-MODIFIED:20250411T173550Z
UID:10000028-1716913800-1722965400@twistedoaksgc.com
SUMMARY:Spark Golf
DESCRIPTION:
URL:https://twistedoaksgc.com/event/spark-golf/2024-05-28/
END:VEVENT
BEGIN:VEVENT
DTSTART;TZID=America/New_York:20240521T163000
DTEND;TZID=America/New_York:20240730T173000
DTSTAMP:20260419T111814
CREATED:20240308T154953Z
LAST-MODIFIED:20250411T173550Z
UID:10000027-1716309000-1722360600@twistedoaksgc.com
SUMMARY:Spark Golf
DESCRIPTION:
URL:https://twistedoaksgc.com/event/spark-golf/2024-05-21/
END:VEVENT
BEGIN:VEVENT
DTSTART;TZID=America/New_York:20240514T163000
DTEND;TZID=America/New_York:20240723T173000
DTSTAMP:20260419T111814
CREATED:20240308T154953Z
LAST-MODIFIED:20250411T173550Z
UID:10000026-1715704200-1721755800@twistedoaksgc.com
SUMMARY:Spark Golf
DESCRIPTION:
URL:https://twistedoaksgc.com/event/spark-golf/2024-05-14/
END:VEVENT
BEGIN:VEVENT
DTSTART;TZID=America/New_York:20240507T163000
DTEND;TZID=America/New_York:20240716T173000
DTSTAMP:20260419T111814
CREATED:20240308T154953Z
LAST-MODIFIED:20250411T173550Z
UID:10000025-1715099400-1721151000@twistedoaksgc.com
SUMMARY:Spark Golf
DESCRIPTION:
URL:https://twistedoaksgc.com/event/spark-golf/2024-05-07/
END:VEVENT
BEGIN:VEVENT
DTSTART;TZID=America/New_York:20240430T163000
DTEND;TZID=America/New_York:20240709T173000
DTSTAMP:20260419T111814
CREATED:20240308T154953Z
LAST-MODIFIED:20250411T173550Z
UID:10000024-1714494600-1720546200@twistedoaksgc.com
SUMMARY:Spark Golf
DESCRIPTION:
URL:https://twistedoaksgc.com/event/spark-golf/2024-04-30/
END:VEVENT
BEGIN:VEVENT
DTSTART;TZID=America/New_York:20240428T120000
DTEND;TZID=America/New_York:20240428T170000
DTSTAMP:20260419T111814
CREATED:20240322T181241Z
LAST-MODIFIED:20240322T195911Z
UID:10000152-1714305600-1714323600@twistedoaksgc.com
SUMMARY:4-Person Scramble
DESCRIPTION:Get ready to tee off at Twisted Oaks Golf Course for a 4-Person Scramble event on Sunday\, April 28 starting at 12:00 PM. \n  \nMembers: $17 + tax (Dinner and Prizes)\nNon-Members: $57 +tax (Golf\, Dinner\, and Prizes) \n  \nTeam Options: Women\, Men\, or Mixed. \n  \nThis event will not be using any handicaps and all final scores will be gross. No mulligans. \n  \nExciting prizes for 1st\, 2nd\, 3rd\, and last place. \n  \nOur bar will remain open after play for your enjoyment. \n  \nDinner includes: Hamburger or Hot Dogs \nServed with two sides and a refreshing soft drink. \n  \nThis event features a limited player field\, so gather your team of four players and secure your spot! \nSign up in the pro shop ASAP or call (352) 746-6257
URL:https://twistedoaksgc.com/event/4-person-scramble/
END:VEVENT
BEGIN:VEVENT
DTSTART;TZID=America/New_York:20240423T163000
DTEND;TZID=America/New_York:20240702T173000
DTSTAMP:20260419T111814
CREATED:20240308T154953Z
LAST-MODIFIED:20250411T173550Z
UID:10000023-1713889800-1719941400@twistedoaksgc.com
SUMMARY:Spark Golf
DESCRIPTION:
URL:https://twistedoaksgc.com/event/spark-golf/2024-04-23/
END:VEVENT
BEGIN:VEVENT
DTSTART;TZID=America/New_York:20240416T163000
DTEND;TZID=America/New_York:20240625T173000
DTSTAMP:20260419T111814
CREATED:20240308T154953Z
LAST-MODIFIED:20250411T173550Z
UID:10000022-1713285000-1719336600@twistedoaksgc.com
SUMMARY:Spark Golf
DESCRIPTION:
URL:https://twistedoaksgc.com/event/spark-golf/2024-04-16/
END:VEVENT
BEGIN:VEVENT
DTSTART;TZID=America/New_York:20240409T163000
DTEND;TZID=America/New_York:20240618T173000
DTSTAMP:20260419T111814
CREATED:20240308T154953Z
LAST-MODIFIED:20250411T173550Z
UID:10000021-1712680200-1718731800@twistedoaksgc.com
SUMMARY:Spark Golf
DESCRIPTION:
URL:https://twistedoaksgc.com/event/spark-golf/2024-04-09/
END:VEVENT
BEGIN:VEVENT
DTSTART;TZID=America/New_York:20240402T163000
DTEND;TZID=America/New_York:20240611T173000
DTSTAMP:20260419T111814
CREATED:20240308T154953Z
LAST-MODIFIED:20250411T173550Z
UID:10000020-1712075400-1718127000@twistedoaksgc.com
SUMMARY:Spark Golf
DESCRIPTION:
URL:https://twistedoaksgc.com/event/spark-golf/2024-04-02/
END:VEVENT
BEGIN:VEVENT
DTSTART;TZID=America/New_York:20240326T163000
DTEND;TZID=America/New_York:20240604T173000
DTSTAMP:20260419T111814
CREATED:20240308T154953Z
LAST-MODIFIED:20250411T173550Z
UID:10000019-1711470600-1717522200@twistedoaksgc.com
SUMMARY:Spark Golf
DESCRIPTION:
URL:https://twistedoaksgc.com/event/spark-golf/2024-03-26/
END:VEVENT
BEGIN:VEVENT
DTSTART;TZID=America/New_York:20240319T163000
DTEND;TZID=America/New_York:20240528T173000
DTSTAMP:20260419T111814
CREATED:20240308T154953Z
LAST-MODIFIED:20250411T173550Z
UID:10000018-1710865800-1716917400@twistedoaksgc.com
SUMMARY:Spark Golf
DESCRIPTION:
URL:https://twistedoaksgc.com/event/spark-golf/2024-03-19/
END:VEVENT
BEGIN:VEVENT
DTSTART;TZID=America/New_York:20240312T163000
DTEND;TZID=America/New_York:20240521T173000
DTSTAMP:20260419T111814
CREATED:20240308T154953Z
LAST-MODIFIED:20250411T173550Z
UID:10000017-1710261000-1716312600@twistedoaksgc.com
SUMMARY:Spark Golf
DESCRIPTION:
URL:https://twistedoaksgc.com/event/spark-golf/2024-03-12/
END:VEVENT
BEGIN:VEVENT
DTSTART;TZID=America/New_York:20240310T090000
DTEND;TZID=America/New_York:20240310T170000
DTSTAMP:20260419T111814
CREATED:20240216T205500Z
LAST-MODIFIED:20240216T205500Z
UID:10000015-1710061200-1710090000@twistedoaksgc.com
SUMMARY:Daylight Savings
DESCRIPTION:
URL:https://twistedoaksgc.com/event/daylight-savings/
END:VEVENT
BEGIN:VEVENT
DTSTART;TZID=America/New_York:20240305T163000
DTEND;TZID=America/New_York:20240514T173000
DTSTAMP:20260419T111814
CREATED:20240308T154953Z
LAST-MODIFIED:20250411T173550Z
UID:10000016-1709656200-1715707800@twistedoaksgc.com
SUMMARY:Spark Golf
DESCRIPTION:
URL:https://twistedoaksgc.com/event/spark-golf/2024-03-05/
END:VEVENT
BEGIN:VEVENT
DTSTART;TZID=America/New_York:20240107T120000
DTEND;TZID=America/New_York:20240107T170000
DTSTAMP:20260419T111814
CREATED:20231208T163053Z
LAST-MODIFIED:20231208T163053Z
UID:10000013-1704628800-1704646800@twistedoaksgc.com
SUMMARY:Step Aside Scramble - 1/7
DESCRIPTION:
URL:https://twistedoaksgc.com/event/step-aside-scramble-1-7/
END:VEVENT
BEGIN:VEVENT
DTSTART;TZID=America/New_York:20240104T130000
DTEND;TZID=America/New_York:20240105T150000
DTSTAMP:20260419T111814
CREATED:20230913T200339Z
LAST-MODIFIED:20230913T200339Z
UID:10000011-1704373200-1704466800@twistedoaksgc.com
SUMMARY:Junior Golf Camps
DESCRIPTION:
URL:https://twistedoaksgc.com/event/junior-golf-camps-3/
END:VEVENT
BEGIN:VEVENT
DTSTART;TZID=America/New_York:20231227T130000
DTEND;TZID=America/New_York:20231228T150000
DTSTAMP:20260419T111814
CREATED:20230913T200252Z
LAST-MODIFIED:20230913T200252Z
UID:10000010-1703682000-1703775600@twistedoaksgc.com
SUMMARY:Junior Golf Camps
DESCRIPTION:
URL:https://twistedoaksgc.com/event/junior-golf-camps-2/
END:VEVENT
BEGIN:VEVENT
DTSTART;TZID=America/New_York:20231218T083000
DTEND;TZID=America/New_York:20231218T140000
DTSTAMP:20260419T111814
CREATED:20231218T145018Z
LAST-MODIFIED:20231218T145018Z
UID:10000014-1702888200-1702908000@twistedoaksgc.com
SUMMARY:Christmas Eve
DESCRIPTION:
URL:https://twistedoaksgc.com/event/christmas-eve/
END:VEVENT
BEGIN:VEVENT
DTSTART;TZID=America/New_York:20231124T130000
DTEND;TZID=America/New_York:20231125T150000
DTSTAMP:20260419T111814
CREATED:20230913T200155Z
LAST-MODIFIED:20230913T200155Z
UID:10000009-1700830800-1700924400@twistedoaksgc.com
SUMMARY:Junior Golf Camps
DESCRIPTION:
URL:https://twistedoaksgc.com/event/junior-golf-camps/
END:VEVENT
BEGIN:VEVENT
DTSTART;TZID=America/New_York:20231120T130000
DTEND;TZID=America/New_York:20231121T150000
DTSTAMP:20260419T111814
CREATED:20230913T195840Z
LAST-MODIFIED:20230913T195840Z
UID:10000008-1700485200-1700578800@twistedoaksgc.com
SUMMARY:Junior Golf Camp
DESCRIPTION:
URL:https://twistedoaksgc.com/event/junior-golf-camp-3/
END:VEVENT
BEGIN:VEVENT
DTSTART;TZID=America/New_York:20231028T130000
DTEND;TZID=America/New_York:20231029T150000
DTSTAMP:20260419T111814
CREATED:20230913T195745Z
LAST-MODIFIED:20230913T195745Z
UID:10000007-1698498000-1698591600@twistedoaksgc.com
SUMMARY:Junior Golf Camp
DESCRIPTION:
URL:https://twistedoaksgc.com/event/junior-golf-camp-2/
END:VEVENT
BEGIN:VEVENT
DTSTART;VALUE=DATE:20231023
DTEND;VALUE=DATE:20231024
DTSTAMP:20260419T111814
CREATED:20231013T170745Z
LAST-MODIFIED:20231013T170745Z
UID:10000012-1698019200-1698105599@twistedoaksgc.com
SUMMARY:Course Maintenance Begins: Overseeding
DESCRIPTION:A Message For You: \nDear Twisted Oaks Golfers\, \nPreviously\, you were notified of our decision to suspend overseeding fairways this year in an effort to implement a better weed control program. Overseeding of the greens\, tees\, approaches and collars will begin on Monday\, October 23rd. Establishing seed requires short\, frequent watering cycles\, and we will do our best to avoid play as much as possible. Please accept our apology in advance for any inconvenience. Since we are not overseeding fairways this year the normal practice of restricting carts to paths and roughs for two weeks will not be necessary. However\, we will be seeding around the greens complexes so please return your carts to the path 30 yards before your approach to the green. Abuse of this request may result in suspended playing privileges. \nOnce again\, we have seen major price increases in most everything (chemicals\, fuel\, insurance\, utilities\, and labor) necessary to keep the golf course in the condition that warrants the Best of the Best recognition we have received these past six years. Our Vision for Twisted Oaks – Quality Golf at an Affordable Price – remains our number 1 priority. To continue to provide the product you have come to expect from Twisted Oaks will require an increase in our fees. By November 1st greens fees and dues will be increased by approximately 5%.  \nThank you for your understanding and continued support of Twisted Oaks Golf Club. \nSincerely\, \nTommy Lyman\nPGA Golf Professional
URL:https://twistedoaksgc.com/event/course-maintenance-begins-overseeding/
CATEGORIES:Maintenance
ATTACH;FMTTYPE=image/png:https://twistedoaksgc.com/wp-content/uploads/2023/10/Twisted-Oaks-Course-Maintenance-blog.webp
END:VEVENT
BEGIN:VEVENT
DTSTART;TZID=America/New_York:20230716T150000
DTEND;TZID=America/New_York:20230716T170000
DTSTAMP:20260419T111814
CREATED:20230627T204443Z
LAST-MODIFIED:20230627T204443Z
UID:10000006-1689519600-1689526800@twistedoaksgc.com
SUMMARY: Adult-Junior Tournament
DESCRIPTION: Join us for an exciting Adult-Junior Tournament at Twisted Oaks Golf Course on Sunday\, July 16th! \nDate: Sunday\, July 16th\nCost: $25.00 for Adult and Junior\nIncludes: Green fees\, golf cart\, range balls\, and prizes \nTees will be determined by age\, handicap\, and playing experience\, ensuring a fair and competitive tournament for all participants. \nTo secure your spot\, please email Steve Kurtz at s.kurtz@pga.com. Don’t miss out on this fantastic opportunity to bond with your junior golfer and showcase your skills on the course! \n Register now and get ready for a memorable day of golf at Twisted Oaks Golf Course. See you on the greens!
URL:https://twistedoaksgc.com/event/adult-junior-tournament/
END:VEVENT
END:VCALENDAR